BEGIN:VCALENDAR
VERSION:2.0
PRODID:-//EPRC - ECPv6.15.17//NONSGML v1.0//EN
CALSCALE:GREGORIAN
METHOD:PUBLISH
X-ORIGINAL-URL:https://www.eprc.org
X-WR-CALDESC:Events for EPRC
REFRESH-INTERVAL;VALUE=DURATION:PT1H
X-Robots-Tag:noindex
X-PUBLISHED-TTL:PT1H
BEGIN:VTIMEZONE
TZID:UTC
BEGIN:STANDARD
TZOFFSETFROM:+0000
TZOFFSETTO:+0000
TZNAME:UTC
DTSTART:20220101T000000
END:STANDARD
END:VTIMEZONE
BEGIN:VEVENT
DTSTART;TZID=UTC:20230905T080000
DTEND;TZID=UTC:20230915T170000
DTSTAMP:20260421T215639
CREATED:20231117T142014Z
LAST-MODIFIED:20231123T111022Z
UID:10000008-1693900800-1694797200@www.eprc.org
SUMMARY:EDA JPRSC - Kalkar (DEU)
DESCRIPTION:
URL:https://www.eprc.org/event2/eda-jprsc-kalkar-deu/
CATEGORIES:Other Events
END:VEVENT
BEGIN:VEVENT
DTSTART;TZID=UTC:20230911T080000
DTEND;TZID=UTC:20230915T170000
DTSTAMP:20260421T215639
CREATED:20231117T142050Z
LAST-MODIFIED:20231117T142050Z
UID:10000009-1694419200-1694797200@www.eprc.org
SUMMARY:EDA JPRLC - Kalkar (DEU)
DESCRIPTION:
URL:https://www.eprc.org/event2/eda-jprlc-kalkar-deu/
CATEGORIES:Other Events
END:VEVENT
BEGIN:VEVENT
DTSTART;TZID=UTC:20230919T080000
DTEND;TZID=UTC:20230923T170000
DTSTAMP:20260421T215639
CREATED:20231117T143005Z
LAST-MODIFIED:20231117T143005Z
UID:10000027-1695110400-1695488400@www.eprc.org
SUMMARY:05 EDA JPRLC
DESCRIPTION:
URL:https://www.eprc.org/event2/05-eda-jprlc/
CATEGORIES:Other Events
END:VEVENT
BEGIN:VEVENT
DTSTART;TZID=UTC:20230919T080000
DTEND;TZID=UTC:20230929T170000
DTSTAMP:20260421T215639
CREATED:20231117T142109Z
LAST-MODIFIED:20231117T142109Z
UID:10000010-1695110400-1696006800@www.eprc.org
SUMMARY:EPRC JPRSC 23-02
DESCRIPTION:
URL:https://www.eprc.org/event2/eprc-jprsc-23-02/
CATEGORIES:EPRC Events
END:VEVENT
BEGIN:VEVENT
DTSTART;TZID=UTC:20230919T080000
DTEND;TZID=UTC:20230930T170000
DTSTAMP:20260421T215639
CREATED:20231117T142946Z
LAST-MODIFIED:20231117T142946Z
UID:10000026-1695110400-1696093200@www.eprc.org
SUMMARY:PR350-22
DESCRIPTION:
URL:https://www.eprc.org/event2/pr350-22/
CATEGORIES:Other Events
END:VEVENT
END:VCALENDAR