BEGIN:VCALENDAR
VERSION:2.0
PRODID:-//EPRC - ECPv6.15.17//NONSGML v1.0//EN
CALSCALE:GREGORIAN
METHOD:PUBLISH
X-ORIGINAL-URL:https://www.eprc.org
X-WR-CALDESC:Events for EPRC
REFRESH-INTERVAL;VALUE=DURATION:PT1H
X-Robots-Tag:noindex
X-PUBLISHED-TTL:PT1H
BEGIN:VTIMEZONE
TZID:UTC
BEGIN:STANDARD
TZOFFSETFROM:+0000
TZOFFSETTO:+0000
TZNAME:UTC
DTSTART:20220101T000000
END:STANDARD
END:VTIMEZONE
BEGIN:VEVENT
DTSTART;TZID=UTC:20230626T080000
DTEND;TZID=UTC:20230707T170000
DTSTAMP:20260422T015408
CREATED:20231117T141928Z
LAST-MODIFIED:20231117T141951Z
UID:10000007-1687766400-1688749200@www.eprc.org
SUMMARY:APROC 2023
DESCRIPTION:
URL:https://www.eprc.org/event2/aproc-2023/
CATEGORIES:EPRC Events
END:VEVENT
END:VCALENDAR