BEGIN:VCALENDAR
VERSION:2.0
PRODID:-//EPRC - ECPv6.15.17//NONSGML v1.0//EN
CALSCALE:GREGORIAN
METHOD:PUBLISH
X-WR-CALNAME:EPRC
X-ORIGINAL-URL:https://www.eprc.org
X-WR-CALDESC:Events for EPRC
REFRESH-INTERVAL;VALUE=DURATION:PT1H
X-Robots-Tag:noindex
X-PUBLISHED-TTL:PT1H
BEGIN:VTIMEZONE
TZID:UTC
BEGIN:STANDARD
TZOFFSETFROM:+0000
TZOFFSETTO:+0000
TZNAME:UTC
DTSTART:20190101T000000
END:STANDARD
END:VTIMEZONE
BEGIN:VEVENT
DTSTART;TZID=UTC:20220418T080000
DTEND;TZID=UTC:20220422T170000
DTSTAMP:20260423T112318
CREATED:20231117T142507Z
LAST-MODIFIED:20231117T142507Z
UID:10000015-1650268800-1650646800@www.eprc.org
SUMMARY:PR300-22-03
DESCRIPTION:
URL:https://www.eprc.org/event2/pr300-22-03/
CATEGORIES:Other Events
END:VEVENT
BEGIN:VEVENT
DTSTART;TZID=UTC:20220314T080000
DTEND;TZID=UTC:20220325T170000
DTSTAMP:20260423T112318
CREATED:20231117T142445Z
LAST-MODIFIED:20231117T142445Z
UID:10000014-1647244800-1648227600@www.eprc.org
SUMMARY:PR350-22-02
DESCRIPTION:
URL:https://www.eprc.org/event2/pr350-22-02/
CATEGORIES:Other Events
END:VEVENT
BEGIN:VEVENT
DTSTART;TZID=UTC:20220214T080000
DTEND;TZID=UTC:20220218T170000
DTSTAMP:20260423T112318
CREATED:20231117T142421Z
LAST-MODIFIED:20231117T142421Z
UID:10000013-1644825600-1645203600@www.eprc.org
SUMMARY:PR300-22-02
DESCRIPTION:
URL:https://www.eprc.org/event2/pr300-22-02/
CATEGORIES:Other Events
END:VEVENT
BEGIN:VEVENT
DTSTART;TZID=UTC:20220208T080000
DTEND;TZID=UTC:20220218T170000
DTSTAMP:20260423T112318
CREATED:20231117T142358Z
LAST-MODIFIED:20231117T142358Z
UID:10000012-1644307200-1645203600@www.eprc.org
SUMMARY:EPRC JPRSC
DESCRIPTION:
URL:https://www.eprc.org/event2/eprc-jprsc/
CATEGORIES:EPRC Events
END:VEVENT
BEGIN:VEVENT
DTSTART;TZID=UTC:20220124T080000
DTEND;TZID=UTC:20220128T170000
DTSTAMP:20260423T112318
CREATED:20231117T142338Z
LAST-MODIFIED:20231117T142338Z
UID:10000011-1643011200-1643389200@www.eprc.org
SUMMARY:PR300-22-DSTO1
DESCRIPTION:
URL:https://www.eprc.org/event2/pr300-22-dsto1/
CATEGORIES:Other Events
END:VEVENT
BEGIN:VEVENT
DTSTART;TZID=UTC:20211206T080000
DTEND;TZID=UTC:20211217T170000
DTSTAMP:20260423T112318
CREATED:20231117T143428Z
LAST-MODIFIED:20231117T143428Z
UID:10000036-1638777600-1639760400@www.eprc.org
SUMMARY:PR350-22-01
DESCRIPTION:
URL:https://www.eprc.org/event2/pr350-22-01/
CATEGORIES:Other Events
END:VEVENT
BEGIN:VEVENT
DTSTART;TZID=UTC:20211115T080000
DTEND;TZID=UTC:20211119T170000
DTSTAMP:20260423T112318
CREATED:20231117T143408Z
LAST-MODIFIED:20231117T143408Z
UID:10000035-1636963200-1637341200@www.eprc.org
SUMMARY:PR300-22-01
DESCRIPTION:
URL:https://www.eprc.org/event2/pr300-22-01/
CATEGORIES:Other Events
END:VEVENT
BEGIN:VEVENT
DTSTART;TZID=UTC:20211108T080000
DTEND;TZID=UTC:20211119T170000
DTSTAMP:20260423T112318
CREATED:20231117T143339Z
LAST-MODIFIED:20231117T143339Z
UID:10000034-1636358400-1637341200@www.eprc.org
SUMMARY:PR350-22-DSTO1
DESCRIPTION:
URL:https://www.eprc.org/event2/pr350-22-dsto1/
CATEGORIES:Other Events
END:VEVENT
BEGIN:VEVENT
DTSTART;TZID=UTC:20210705T080000
DTEND;TZID=UTC:20210716T170000
DTSTAMP:20260423T112318
CREATED:20231117T143314Z
LAST-MODIFIED:20231117T143314Z
UID:10000033-1625472000-1626454800@www.eprc.org
SUMMARY:PR 350
DESCRIPTION:
URL:https://www.eprc.org/event2/pr-350/
CATEGORIES:Other Events
END:VEVENT
BEGIN:VEVENT
DTSTART;TZID=UTC:20210602T080000
DTEND;TZID=UTC:20210616T170000
DTSTAMP:20260423T112318
CREATED:20231117T143249Z
LAST-MODIFIED:20231117T143249Z
UID:10000032-1622620800-1623862800@www.eprc.org
SUMMARY:APROC 2021
DESCRIPTION:
URL:https://www.eprc.org/event2/aproc-2021/
CATEGORIES:EPRC Events
END:VEVENT
BEGIN:VEVENT
DTSTART;TZID=UTC:20210223T080000
DTEND;TZID=UTC:20210305T170000
DTSTAMP:20260423T112318
CREATED:20231117T143209Z
LAST-MODIFIED:20231117T143228Z
UID:10000031-1614067200-1614963600@www.eprc.org
SUMMARY:EPRC JPRSC
DESCRIPTION:
URL:https://www.eprc.org/event2/eprc-jprsc-2/
CATEGORIES:EPRC Events
END:VEVENT
BEGIN:VEVENT
DTSTART;TZID=UTC:20210208T080000
DTEND;TZID=UTC:20210219T170000
DTSTAMP:20260423T112318
CREATED:20231117T143148Z
LAST-MODIFIED:20231117T143148Z
UID:10000030-1612771200-1613754000@www.eprc.org
SUMMARY:PR 300 Course
DESCRIPTION:
URL:https://www.eprc.org/event2/pr-300-course/
CATEGORIES:Other Events
END:VEVENT
BEGIN:VEVENT
DTSTART;TZID=UTC:20201109T080000
DTEND;TZID=UTC:20201120T170000
DTSTAMP:20260423T112318
CREATED:20231117T144517Z
LAST-MODIFIED:20231117T144517Z
UID:10000060-1604908800-1605891600@www.eprc.org
SUMMARY:PR 350 Course
DESCRIPTION:
URL:https://www.eprc.org/event2/pr-350-course-2/
CATEGORIES:Other Events
END:VEVENT
BEGIN:VEVENT
DTSTART;TZID=UTC:20201026T080000
DTEND;TZID=UTC:20201030T170000
DTSTAMP:20260423T112318
CREATED:20231117T144502Z
LAST-MODIFIED:20231117T144502Z
UID:10000059-1603699200-1604077200@www.eprc.org
SUMMARY:TLP CSAR/RMC Academic Course
DESCRIPTION:
URL:https://www.eprc.org/event2/tlp-csar-rmc-academic-course-2/
CATEGORIES:Other Events
END:VEVENT
BEGIN:VEVENT
DTSTART;TZID=UTC:20201019T080000
DTEND;TZID=UTC:20201030T170000
DTSTAMP:20260423T112318
CREATED:20231117T144445Z
LAST-MODIFIED:20231117T144445Z
UID:10000058-1603094400-1604077200@www.eprc.org
SUMMARY:JPRSC
DESCRIPTION:
URL:https://www.eprc.org/event2/jprsc/
CATEGORIES:EPRC Events
END:VEVENT
BEGIN:VEVENT
DTSTART;TZID=UTC:20200921T080000
DTEND;TZID=UTC:20200925T170000
DTSTAMP:20260423T112318
CREATED:20231117T144426Z
LAST-MODIFIED:20231117T144426Z
UID:10000057-1600675200-1601053200@www.eprc.org
SUMMARY:PR 300 Course
DESCRIPTION:
URL:https://www.eprc.org/event2/pr-300-course-3/
CATEGORIES:Other Events
END:VEVENT
BEGIN:VEVENT
DTSTART;TZID=UTC:20200815T080000
DTEND;TZID=UTC:20200828T170000
DTSTAMP:20260423T112318
CREATED:20231117T144403Z
LAST-MODIFIED:20231117T144403Z
UID:10000056-1597478400-1598634000@www.eprc.org
SUMMARY:Finnish SERE Instrucror Course
DESCRIPTION:
URL:https://www.eprc.org/event2/finnish-sere-instrucror-course/
CATEGORIES:SERE Events
END:VEVENT
BEGIN:VEVENT
DTSTART;TZID=UTC:20200620T080000
DTEND;TZID=UTC:20200624T170000
DTSTAMP:20260423T112318
CREATED:20231117T144325Z
LAST-MODIFIED:20231117T144325Z
UID:10000054-1592640000-1593018000@www.eprc.org
SUMMARY:JPRC 20-25 CASPOA
DESCRIPTION:
URL:https://www.eprc.org/event2/jprc-20-25-caspoa/
CATEGORIES:EPRC Events
END:VEVENT
BEGIN:VEVENT
DTSTART;TZID=UTC:20200608T080000
DTEND;TZID=UTC:20200626T170000
DTSTAMP:20260423T112318
CREATED:20231117T144251Z
LAST-MODIFIED:20231117T144251Z
UID:10000052-1591603200-1593190800@www.eprc.org
SUMMARY:APROC 2020 (Cancelled)
DESCRIPTION:
URL:https://www.eprc.org/event2/aproc-2020-cancelled/
CATEGORIES:EPRC Events
END:VEVENT
BEGIN:VEVENT
DTSTART;TZID=UTC:20200608T080000
DTEND;TZID=UTC:20200619T170000
DTSTAMP:20260423T112318
CREATED:20231117T144308Z
LAST-MODIFIED:20231117T144308Z
UID:10000053-1591603200-1592586000@www.eprc.org
SUMMARY:PR 350 Course
DESCRIPTION:
URL:https://www.eprc.org/event2/pr-350-course/
CATEGORIES:Other Events
END:VEVENT
BEGIN:VEVENT
DTSTART;TZID=UTC:20200608T080000
DTEND;TZID=UTC:20200612T170000
DTSTAMP:20260423T112318
CREATED:20231117T144341Z
LAST-MODIFIED:20231117T144341Z
UID:10000055-1591603200-1591981200@www.eprc.org
SUMMARY:TLP CSAR/RMC Academic Course
DESCRIPTION:
URL:https://www.eprc.org/event2/tlp-csar-rmc-academic-course/
CATEGORIES:Other Events
END:VEVENT
BEGIN:VEVENT
DTSTART;TZID=UTC:20200511T080000
DTEND;TZID=UTC:20200515T170000
DTSTAMP:20260423T112318
CREATED:20231117T144233Z
LAST-MODIFIED:20231117T144233Z
UID:10000051-1589184000-1589562000@www.eprc.org
SUMMARY:APROC-20 MIMO Coordination Week (Cancelled)
DESCRIPTION:
URL:https://www.eprc.org/event2/aproc-20-mimo-coordination-week-cancelled/
CATEGORIES:EPRC Events
END:VEVENT
BEGIN:VEVENT
DTSTART;TZID=UTC:20200428T080000
DTEND;TZID=UTC:20200429T170000
DTSTAMP:20260423T112318
CREATED:20231117T144215Z
LAST-MODIFIED:20231117T144215Z
UID:10000050-1588060800-1588179600@www.eprc.org
SUMMARY:PR/SAR WG (Cancelled)
DESCRIPTION:
URL:https://www.eprc.org/event2/pr-sar-wg-cancelled/
CATEGORIES:Other Events
END:VEVENT
BEGIN:VEVENT
DTSTART;TZID=UTC:20200420T080000
DTEND;TZID=UTC:20200430T170000
DTSTAMP:20260423T112318
CREATED:20231117T144153Z
LAST-MODIFIED:20231117T144153Z
UID:10000049-1587369600-1588266000@www.eprc.org
SUMMARY:TLP RMC Flying Course (Cancelled)
DESCRIPTION:
URL:https://www.eprc.org/event2/tlp-rmc-flying-course-cancelled/
CATEGORIES:Other Events
END:VEVENT
BEGIN:VEVENT
DTSTART;TZID=UTC:20200323T080000
DTEND;TZID=UTC:20200402T170000
DTSTAMP:20260423T112318
CREATED:20231117T144134Z
LAST-MODIFIED:20231117T144134Z
UID:10000048-1584950400-1585846800@www.eprc.org
SUMMARY:TRJU 19-2 Ph-III (EXCON & Assessment) (Cancelled)
DESCRIPTION:
URL:https://www.eprc.org/event2/trju-19-2-ph-iii-excon-assessment-cancelled/
CATEGORIES:Other Events
END:VEVENT
BEGIN:VEVENT
DTSTART;TZID=UTC:20200319T080000
DTEND;TZID=UTC:20200323T170000
DTSTAMP:20260423T112318
CREATED:20231117T144058Z
LAST-MODIFIED:20231117T144058Z
UID:10000047-1584604800-1584982800@www.eprc.org
SUMMARY:TRJU 19-2 Ph-III (EXCON TRNG) (Cancelled)
DESCRIPTION:
URL:https://www.eprc.org/event2/trju-19-2-ph-iii-excon-trng-cancelled/
CATEGORIES:Other Events
END:VEVENT
BEGIN:VEVENT
DTSTART;TZID=UTC:20200316T080000
DTEND;TZID=UTC:20200320T170000
DTSTAMP:20260423T112318
CREATED:20231117T144034Z
LAST-MODIFIED:20231117T144034Z
UID:10000046-1584345600-1584723600@www.eprc.org
SUMMARY:JPRC 20-12 CASPOA (Cancelled)
DESCRIPTION:
URL:https://www.eprc.org/event2/jprc-20-12-caspoa-cancelled/
CATEGORIES:EPRC Events
END:VEVENT
BEGIN:VEVENT
DTSTART;TZID=UTC:20200302T080000
DTEND;TZID=UTC:20200306T170000
DTSTAMP:20260423T112318
CREATED:20231117T144010Z
LAST-MODIFIED:20231117T144010Z
UID:10000045-1583136000-1583514000@www.eprc.org
SUMMARY:MCDC WS (Cancelled)
DESCRIPTION:
URL:https://www.eprc.org/event2/mcdc-ws-cancelled/
CATEGORIES:Other Events
END:VEVENT
BEGIN:VEVENT
DTSTART;TZID=UTC:20200225T080000
DTEND;TZID=UTC:20200306T170000
DTSTAMP:20260423T112318
CREATED:20231117T143949Z
LAST-MODIFIED:20231117T143949Z
UID:10000044-1582617600-1583514000@www.eprc.org
SUMMARY:EPRC JPRSC 20-1
DESCRIPTION:
URL:https://www.eprc.org/event2/eprc-jprsc-20-1/
CATEGORIES:EPRC Events
END:VEVENT
BEGIN:VEVENT
DTSTART;TZID=UTC:20200217T080000
DTEND;TZID=UTC:20200221T170000
DTSTAMP:20260423T112318
CREATED:20231117T143929Z
LAST-MODIFIED:20231117T143929Z
UID:10000043-1581926400-1582304400@www.eprc.org
SUMMARY:33rd SERE School Leaders' WG (SSLWG)
DESCRIPTION:
URL:https://www.eprc.org/event2/33rd-sere-school-leaders-wg-sslwg/
CATEGORIES:SERE Events
END:VEVENT
END:VCALENDAR