BEGIN:VCALENDAR
VERSION:2.0
PRODID:-//EPRC - ECPv6.15.17//NONSGML v1.0//EN
CALSCALE:GREGORIAN
METHOD:PUBLISH
X-WR-CALNAME:EPRC
X-ORIGINAL-URL:https://www.eprc.org
X-WR-CALDESC:Events for EPRC
REFRESH-INTERVAL;VALUE=DURATION:PT1H
X-Robots-Tag:noindex
X-PUBLISHED-TTL:PT1H
BEGIN:VTIMEZONE
TZID:UTC
BEGIN:STANDARD
TZOFFSETFROM:+0000
TZOFFSETTO:+0000
TZNAME:UTC
DTSTART:20220101T000000
END:STANDARD
END:VTIMEZONE
BEGIN:VEVENT
DTSTART;VALUE=DATE:20231113
DTEND;VALUE=DATE:20231125
DTSTAMP:20260421T195535
CREATED:20231005T071140Z
LAST-MODIFIED:20231115T085939Z
UID:10000001-1699833600-1700870399@www.eprc.org
SUMMARY:ITA JAOS JPR STAFF
DESCRIPTION:
URL:https://www.eprc.org/event2/ita-jaos-jpr-staff/
CATEGORIES:Other Events
END:VEVENT
END:VCALENDAR