BEGIN:VCALENDAR
VERSION:2.0
PRODID:-//EPRC - ECPv6.15.17//NONSGML v1.0//EN
CALSCALE:GREGORIAN
METHOD:PUBLISH
X-WR-CALNAME:EPRC
X-ORIGINAL-URL:https://www.eprc.org
X-WR-CALDESC:Events for EPRC
REFRESH-INTERVAL;VALUE=DURATION:PT1H
X-Robots-Tag:noindex
X-PUBLISHED-TTL:PT1H
BEGIN:VTIMEZONE
TZID:UTC
BEGIN:STANDARD
TZOFFSETFROM:+0000
TZOFFSETTO:+0000
TZNAME:UTC
DTSTART:20220101T000000
END:STANDARD
END:VTIMEZONE
BEGIN:VEVENT
DTSTART;TZID=UTC:20230905T080000
DTEND;TZID=UTC:20230915T170000
DTSTAMP:20260421T235430
CREATED:20231117T142014Z
LAST-MODIFIED:20231123T111022Z
UID:10000008-1693900800-1694797200@www.eprc.org
SUMMARY:EDA JPRSC - Kalkar (DEU)
DESCRIPTION:
URL:https://www.eprc.org/event2/eda-jprsc-kalkar-deu/
CATEGORIES:Other Events
END:VEVENT
END:VCALENDAR