BEGIN:VCALENDAR
VERSION:2.0
PRODID:-//EPRC - ECPv6.15.17//NONSGML v1.0//EN
CALSCALE:GREGORIAN
METHOD:PUBLISH
X-WR-CALNAME:EPRC
X-ORIGINAL-URL:https://www.eprc.org
X-WR-CALDESC:Events for EPRC
REFRESH-INTERVAL;VALUE=DURATION:PT1H
X-Robots-Tag:noindex
X-PUBLISHED-TTL:PT1H
BEGIN:VTIMEZONE
TZID:UTC
BEGIN:STANDARD
TZOFFSETFROM:+0000
TZOFFSETTO:+0000
TZNAME:UTC
DTSTART:20220101T000000
END:STANDARD
END:VTIMEZONE
BEGIN:VEVENT
DTSTART;TZID=UTC:20230516T080000
DTEND;TZID=UTC:20230526T170000
DTSTAMP:20260422T074840
CREATED:20231117T141755Z
LAST-MODIFIED:20231123T111032Z
UID:10000006-1684224000-1685120400@www.eprc.org
SUMMARY:EDA JPRSC - Veszprém - (HUN)
DESCRIPTION:
URL:https://www.eprc.org/event2/eda-jprsc-veszprem-hun/
CATEGORIES:Other Events
END:VEVENT
END:VCALENDAR