BEGIN:VCALENDAR
VERSION:2.0
PRODID:-//EPRC - ECPv6.15.17//NONSGML v1.0//EN
CALSCALE:GREGORIAN
METHOD:PUBLISH
X-WR-CALNAME:EPRC
X-ORIGINAL-URL:https://www.eprc.org
X-WR-CALDESC:Events for EPRC
REFRESH-INTERVAL;VALUE=DURATION:PT1H
X-Robots-Tag:noindex
X-PUBLISHED-TTL:PT1H
BEGIN:VTIMEZONE
TZID:UTC
BEGIN:STANDARD
TZOFFSETFROM:+0000
TZOFFSETTO:+0000
TZNAME:UTC
DTSTART:20210101T000000
END:STANDARD
END:VTIMEZONE
BEGIN:VEVENT
DTSTART;TZID=UTC:20220606T080000
DTEND;TZID=UTC:20220617T170000
DTSTAMP:20260423T025504
CREATED:20231117T142527Z
LAST-MODIFIED:20231117T142527Z
UID:10000016-1654502400-1655485200@www.eprc.org
SUMMARY:APROC 2022
DESCRIPTION:
URL:https://www.eprc.org/event2/aproc-2022/
CATEGORIES:EPRC Events
END:VEVENT
BEGIN:VEVENT
DTSTART;TZID=UTC:20220613T080000
DTEND;TZID=UTC:20220617T170000
DTSTAMP:20260423T025504
CREATED:20231117T142645Z
LAST-MODIFIED:20231117T142645Z
UID:10000019-1655107200-1655485200@www.eprc.org
SUMMARY:PR300-22-04
DESCRIPTION:
URL:https://www.eprc.org/event2/pr300-22-04/
CATEGORIES:Other Events
END:VEVENT
END:VCALENDAR